BEGIN:VCALENDAR
VERSION:2.0
PRODID:-//Cotsen Institute of Archaeology - ECPv6.15.17.1//NONSGML v1.0//EN
CALSCALE:GREGORIAN
METHOD:PUBLISH
X-WR-CALNAME:Cotsen Institute of Archaeology
X-ORIGINAL-URL:https://ioa.pre2.ss.ucla.edu
X-WR-CALDESC:Events for Cotsen Institute of Archaeology
REFRESH-INTERVAL;VALUE=DURATION:PT1H
X-Robots-Tag:noindex
X-PUBLISHED-TTL:PT1H
BEGIN:VTIMEZONE
TZID:America/Los_Angeles
BEGIN:DAYLIGHT
TZOFFSETFROM:-0800
TZOFFSETTO:-0700
TZNAME:PDT
DTSTART:20210314T100000
END:DAYLIGHT
BEGIN:STANDARD
TZOFFSETFROM:-0700
TZOFFSETTO:-0800
TZNAME:PST
DTSTART:20211107T090000
END:STANDARD
BEGIN:DAYLIGHT
TZOFFSETFROM:-0800
TZOFFSETTO:-0700
TZNAME:PDT
DTSTART:20220313T100000
END:DAYLIGHT
BEGIN:STANDARD
TZOFFSETFROM:-0700
TZOFFSETTO:-0800
TZNAME:PST
DTSTART:20221106T090000
END:STANDARD
BEGIN:DAYLIGHT
TZOFFSETFROM:-0800
TZOFFSETTO:-0700
TZNAME:PDT
DTSTART:20230312T100000
END:DAYLIGHT
BEGIN:STANDARD
TZOFFSETFROM:-0700
TZOFFSETTO:-0800
TZNAME:PST
DTSTART:20231105T090000
END:STANDARD
END:VTIMEZONE
BEGIN:VEVENT
DTSTART;TZID=America/Los_Angeles:20221014T110000
DTEND;TZID=America/Los_Angeles:20221014T120000
DTSTAMP:20260421T062819
CREATED:20230314T002728Z
LAST-MODIFIED:20230314T002728Z
UID:22-1665745200-1665748800@ioa.pre2.ss.ucla.edu
SUMMARY:Phidias Unbound: How Robot-Generated Replicas Could Solve the Parthenon Marbles Quandary
DESCRIPTION:Phidias Unbound: How Robot-Generated Replicas Could Solve the Parthenon Marbles QuandaryRoger Michel Executive Director\, The Institute for Digital ArchaeologyCLICK to RSVPPlease submit your questions in advance of the webinar via email to: hnadworny@support.ucla.edu by Wednesday\, October 12 at 12:00 p.m.Instructions to join the webinar will be provided once your registration has been confirmed.About the program:  The Parthenon Marbles\, commonly known as the Elgin Marbles\, were removed from the ancient Acropolis of Athens in 1801 by Lord Elgin\, British ambassador to the Ottoman Empire. Carved by the sculptor Phidias\, they were eventually sold to the British government in 1817 and are housed in the British Museum. Public debate about repatriating the marbles is heated and ongoing.Can the creation of exact copies of the originals resolve the repatriation quandary? Roger Michel\, executive director of the Institute of Digital Archaeology\, at the University of Oxford\, believes the repatriation issue can be resolved with the help of 3-D machining. His research team has developed a robot with the ability to create faithful copies of large historical objects. Michel will explore humanity’s connection to culturally significant objects and the emphasis we place on physical possession. Is possession an inherently colonial concept? Are heritage assets particularly susceptible to being exploited for the purposes of historical revisionism? Under what circumstances can copies provide satisfactory substitutes for original material? These questions will be examined against the backdrop of the IDA’s ongoing Elgin repatriation efforts.About the speaker:Roger Michel is the founder and Executive Director of the Institute for Digital Archaeology (IDA). The IDA operates globally\, undertaking a huge variety of heritage projects\, many of which are aimed at advancing social justice goals.  Its principal partners are the UN\, UNESCO and local and national governments.  Mr Michel has published and lectured frequently on various heritage conservation topics.  He was a member of the faculty at BU Law School for 25 years\, is an Honorary Fellow of Trinity College (Oxford)\, and is co-publisher of Arion Magazine.  Mr Michel is a graduate of Harvard and Oxford Universities.https://conservation.ucla.edu/event/phidias-unbound-how-robot-generated-…
URL:https://ioa.pre2.ss.ucla.edu/event/phidias-unbound-how-robot-generated-replicas-could-solve-the-parthenon-marbles-quandary/
END:VEVENT
BEGIN:VEVENT
DTSTART;TZID=America/Los_Angeles:20221019T113000
DTEND;TZID=America/Los_Angeles:20221019T123000
DTSTAMP:20260421T062819
CREATED:20230314T002726Z
LAST-MODIFIED:20230314T002726Z
UID:21-1666179000-1666182600@ioa.pre2.ss.ucla.edu
SUMMARY:Weds Talks:Understanding Pigment Composition in Kerala Temple Murals using non-invasive Imaging Techniques
DESCRIPTION:Speaker: Moupi MukhopadhyayPh.D. StudentUCLA Conservation of Material Culture IDPAbstract: The wall paintings in the Indian state of Kerala belonging to the Kerala mural tradition (7th – 17th century CE) provide important cross-cultural links that contextualize local historical religious practices\, trade\, and social interactions. The complex color scheme of the paintings is traditionally attributed to the skillful use of only five colors (panchavarna) – black\, red\, yellow\, green and white. However\, the available literature on the technical study of the murals does not consistently assign the same material (coloring agent or pigment) to the composition of a single color. For example\, while black is generally accepted as lamp black across different publications\, the green has been ascribed to green earth\, powdered leaves\, or combinations of yellow ochre\, gamboge\, indigo\, and even lapis lazuli. Understanding the materials used in specific temple murals\, and their possible sources\, can help better understand the nature and movements of the agents involved in the creation of these paintings. Advances in material characterization methods have significantly increased the scope of identifying the composition of the colors in murals non-invasively\, ideal for the preliminary research required to build a case for a more intensive technical study. Non-invasive fieldwork was conducted on selected temples in Kerala\, using a digital single-lens reflex camera (DSLR) for photography as well as Infrared (IR) imaging\, and a SPECIM IQ hyperspectral camera for hyperspectral imaging (HSI). Permissions to access the temples allowed for the use of only sunlight as the illumination source\, adding to the complexity of the interpretation of the data obtained. The use of Infrared False Color Imaging (IRFC) in conjunction with the analysis of HSI data reveals photophysical characteristics of the pigments which are useful for their identification\, and for determining optimal characterization methods for further scientific investigation.Bio: Moupi Mukhopadhyay is a PhD Candidate in the Conservation of Material Culture Program IDP at UCLA. She is interested in investigating the photophysical and chemical properties of pigments in cultural heritage materials using scientific techniques\, to better inform their conservation. Through her research\, she aims to develop a better understanding of the materials and technology of the creation of temple wall paintings in Kerala\, India.
URL:https://ioa.pre2.ss.ucla.edu/event/weds-talksunderstanding-pigment-composition-in-kerala-temple-murals-using-non-invasive-imaging-techniques/
END:VEVENT
BEGIN:VEVENT
DTSTART;TZID=America/Los_Angeles:20221019T120000
DTEND;TZID=America/Los_Angeles:20221019T130000
DTSTAMP:20260421T062819
CREATED:20230314T002721Z
LAST-MODIFIED:20230314T002721Z
UID:20-1666180800-1666184400@ioa.pre2.ss.ucla.edu
SUMMARY:Weds Talks: Working with Collections from Crete and Central Africa: My Third Year Journey Thus Far
DESCRIPTION:Speaker:  Celine WachsmuthM.A. StudentUCLA/Getty Conservation of Archaeological and Ethnographic Materials MAAbstract: One of the requirements for the MA Conservation degree is a nine month (minimum) internship in one or more conservation labs. By the end of my internship year\, I will have worked in three different places; the Institute for Aegean Prehistory Study Center for East Crete (INSTAP)\, the AfricaMuseum\, and the Denver Art Museum (and a very exciting one month at the Denver Museum of Nature and Science). In this talk I will give a brief description of the different things I’ve been up to since starting my third year. This summer I spent six weeks in Crete working on archaeological ceramic\, metal\, and glass objects from various sites around East Crete. After a break in August to travel and see family\, I started my second internship in Belgium. Here I’ve shifted gears and been heavily involved in the installation process for a contemporary exhibition and treating a wood object going out on a loan. Bio: Céline is a third year student in the UCLA/Getty MA program in conservation. She has had the chance to work in many great conservation labs including at the Penn Museum\, the Cleveland Museum of Art\, a private objects lab in Seattle\, a private automaton and horological lab in Seattle\, the Anchorage Museum\, Fowler Museum\, INSTAP\, and now the AfricaMuseum. 
URL:https://ioa.pre2.ss.ucla.edu/event/weds-talks-working-with-collections-from-crete-and-central-africa-my-third-year-journey-thus-far/
END:VEVENT
BEGIN:VEVENT
DTSTART;TZID=America/Los_Angeles:20221026T120000
DTEND;TZID=America/Los_Angeles:20221026T130000
DTSTAMP:20260421T062819
CREATED:20230314T002720Z
LAST-MODIFIED:20230314T002720Z
UID:19-1666785600-1666789200@ioa.pre2.ss.ucla.edu
SUMMARY:Weds Talks: Social History of Food in Predynastic Egyptian: Between Humanities and Life Sciences
DESCRIPTION:Speaker:  Amr ShahatPostdoctoral ScholarCotsen Institute of ArchaeologyAbstract: Preservation of organic food remains from Ancient Egypt is an exceptional aspect of the archaeology in this region. The level of preservation of these materials has contributed to the early development of archaeobotany and radiocarbon dating. In this talk I will present unpublished food remains from Nag ed Deir\, a necropolis situated on the eastern bank of the Nile\, and Deir el Ballas\, a royal palace complex in Upper Egypt\, research that continues this link between the humanities and life sciences. The materials were excavated in the early 1900s by George A. Reisner and Albert Lythgoe and are currently housed at the Hearst Museum of Anthropology at the University of California\, Berkeley. I will discuss the results of interdisciplinary analyses applying archaeobotanical and isotopic methods to plant foods from these two sites to understand the anthropogenic impact of climate changes on the foodways and social structures of predynastic Egypt.A new non-destructive nano-archaeology method was developed to analyze beer mash to reconstruct early beer composition from Nag ed-Deir\, revealing a beer recipe specific to the region. I employed a long stable isotope experiment to identify the source region of specific foods to differentiate between local versus imported species\, the latter group being represented by the earliest evidence of pomegranate and domesticated watermelon. These interdisciplinary approaches enable us to reconstruct the social history of none-elite Egyptian foodways as related to regional identities and cross-cultural interactions. The methods I will present expand our theoretical perspectives from the humanities side\, while serving the field of life sciences through the isotopic data which highlights the anthropogenic impact of climate changes on foodways and social structure.Bio: Amr Khalaf Shahat\, is a postdoctoral researcher at the Cotsen Institute. He earned his PhD in Egyptian Archaeology and Paleoethnobotany from the Cotsen\, and his masters in Egyptology from the University of Memphis. He is interested in the study of Egyptian foodways from tombs and settlements to answer questions related to cultural identities and cross-cultural interaction.
URL:https://ioa.pre2.ss.ucla.edu/event/weds-talks-social-history-of-food-in-predynastic-egyptian-between-humanities-and-life-sciences/
END:VEVENT
BEGIN:VEVENT
DTSTART;TZID=America/Los_Angeles:20221027T180000
DTEND;TZID=America/Los_Angeles:20221027T190000
DTSTAMP:20260421T062819
CREATED:20230314T002717Z
LAST-MODIFIED:20230314T002717Z
UID:18-1666893600-1666897200@ioa.pre2.ss.ucla.edu
SUMMARY:The Surface Below: 9th-15th Century Angkor and the Khmer World
DESCRIPTION:Register here: https://ucla.zoom.us/meeting/register/tJEtf-iqrjMiE9GbpWrFQZUs-gaEOVNF2zKGFew of the world’s premodern polities outside of China achieved the scale or density of urbanismfound in the 9th-15th century Angkor empire\, which governed a substantial swath of mainlandSoutheast Asia. Angkorian rulers built cities\, water reservoirs\, stone monuments\, and roads thatcrisscrossed the empire. Carved images glorify their gods\, rulers\, and ancestors; inscribed stelaecelebrate political accessions and conquests\, and narrate religious merits\, economic properties\,and status of the populations. Heng will introduce the ancient metropolis of Angkor and its Khmerworld through recent archaeological findings using historical sources\, excavation and remotelysensed ground survey (LIDAR) data. Heng is the 2022-24 postdoctoral scholar at the Cotsen Instituteand the Program for Early Modern Southeast Asia (PEMSEA). His research interests include religiouschange\, urbanism\, political economy\, public archaeology\, and heritage management. He was a featuredcommentator in “Angkor 3D: The Lost Empire of Cambodia\,” at the California Science Center IMAXtheater.
URL:https://ioa.pre2.ss.ucla.edu/event/the-surface-below-9th-15th-century-angkor-and-the-khmer-world/
END:VEVENT
END:VCALENDAR