BEGIN:VCALENDAR
VERSION:2.0
PRODID:-//Cotsen Institute of Archaeology - ECPv6.15.17.1//NONSGML v1.0//EN
CALSCALE:GREGORIAN
METHOD:PUBLISH
X-WR-CALNAME:Cotsen Institute of Archaeology
X-ORIGINAL-URL:https://ioa.pre2.ss.ucla.edu
X-WR-CALDESC:Events for Cotsen Institute of Archaeology
REFRESH-INTERVAL;VALUE=DURATION:PT1H
X-Robots-Tag:noindex
X-PUBLISHED-TTL:PT1H
BEGIN:VTIMEZONE
TZID:America/Los_Angeles
BEGIN:DAYLIGHT
TZOFFSETFROM:-0800
TZOFFSETTO:-0700
TZNAME:PDT
DTSTART:20130310T100000
END:DAYLIGHT
BEGIN:STANDARD
TZOFFSETFROM:-0700
TZOFFSETTO:-0800
TZNAME:PST
DTSTART:20131103T090000
END:STANDARD
BEGIN:DAYLIGHT
TZOFFSETFROM:-0800
TZOFFSETTO:-0700
TZNAME:PDT
DTSTART:20140309T100000
END:DAYLIGHT
BEGIN:STANDARD
TZOFFSETFROM:-0700
TZOFFSETTO:-0800
TZNAME:PST
DTSTART:20141102T090000
END:STANDARD
BEGIN:DAYLIGHT
TZOFFSETFROM:-0800
TZOFFSETTO:-0700
TZNAME:PDT
DTSTART:20150308T100000
END:DAYLIGHT
BEGIN:STANDARD
TZOFFSETFROM:-0700
TZOFFSETTO:-0800
TZNAME:PST
DTSTART:20151101T090000
END:STANDARD
BEGIN:DAYLIGHT
TZOFFSETFROM:-0800
TZOFFSETTO:-0700
TZNAME:PDT
DTSTART:20160313T100000
END:DAYLIGHT
BEGIN:STANDARD
TZOFFSETFROM:-0700
TZOFFSETTO:-0800
TZNAME:PST
DTSTART:20161106T090000
END:STANDARD
END:VTIMEZONE
BEGIN:VEVENT
DTSTART;TZID=America/Los_Angeles:20150130T160000
DTEND;TZID=America/Los_Angeles:20150131T173000
DTSTAMP:20260421T185408
CREATED:20230314T012752Z
LAST-MODIFIED:20230314T012752Z
UID:417-1422633600-1422725400@ioa.pre2.ss.ucla.edu
SUMMARY:UCLA Cotsen Institute of Archaeology Student Conference 2015
DESCRIPTION:schedule_2015.pdf
URL:https://ioa.pre2.ss.ucla.edu/event/ucla-cotsen-institute-of-archaeology-student-conference-2015/
END:VEVENT
BEGIN:VEVENT
DTSTART;TZID=America/Los_Angeles:20140721T164500
DTEND;TZID=America/Los_Angeles:20140722T174500
DTSTAMP:20260421T185408
CREATED:20230314T012754Z
LAST-MODIFIED:20230314T012754Z
UID:418-1405961100-1406051100@ioa.pre2.ss.ucla.edu
SUMMARY:Poles\, Posts\, and Canoes: The Preservation\, Conservation and Continuation of Native American Monumental Wood Carving
DESCRIPTION:This two day symposium (preceded by an opening ceremony and meal on the evening of July 20th) will gather Native and non-Native museum professionals\, tribal members\, and contemporary Native carvers to discuss the challenges of preserving and exhibiting historic monumental wood carvings from both a Native and Non-Native view point. It will also serve to connect Native carvers and the museum community in the hope that the resulting dialogue will help support the continued development of this traditional art form. The format of this gathering is aimed at encouraging discussion\, so presentations will be relaxed and brief\, and an equal amount of time will be scheduled for general discussion of the topics addressed.Registration will open January 21st\, 2014\, and a provisional program will be available at that time. Download symposium registration form here. Email completed form to info@hibulbculturalcenter.org.Symposium registration fees:Early bird discount: $300 (register before May 30\, 2014 to receive the early bird discount!)Full: $350Student: $250 (please provide a copy of your student ID for verification purposes)
URL:https://ioa.pre2.ss.ucla.edu/event/poles-posts-and-canoes-the-preservation-conservation-and-continuation-of-native-american-monumental-wood-carving/
END:VEVENT
BEGIN:VEVENT
DTSTART;TZID=America/Los_Angeles:20140205T120000
DTEND;TZID=America/Los_Angeles:20140205T130000
DTSTAMP:20260421T185408
CREATED:20230314T012756Z
LAST-MODIFIED:20230314T012756Z
UID:419-1391601600-1391605200@ioa.pre2.ss.ucla.edu
SUMMARY:PIZZA TALK: SURVEY AND SETTLEMENT ON THE PERUVIAN SOUTH COAST: THE LIP
DESCRIPTION:
URL:https://ioa.pre2.ss.ucla.edu/event/pizza-talk-survey-and-settlement-on-the-peruvian-south-coast-the-lip/
END:VEVENT
END:VCALENDAR