BEGIN:VCALENDAR
VERSION:2.0
PRODID:-//Cotsen Institute of Archaeology - ECPv6.15.17.1//NONSGML v1.0//EN
CALSCALE:GREGORIAN
METHOD:PUBLISH
X-ORIGINAL-URL:https://ioa.pre2.ss.ucla.edu
X-WR-CALDESC:Events for Cotsen Institute of Archaeology
REFRESH-INTERVAL;VALUE=DURATION:PT1H
X-Robots-Tag:noindex
X-PUBLISHED-TTL:PT1H
BEGIN:VTIMEZONE
TZID:America/Los_Angeles
BEGIN:DAYLIGHT
TZOFFSETFROM:-0800
TZOFFSETTO:-0700
TZNAME:PDT
DTSTART:20220313T100000
END:DAYLIGHT
BEGIN:STANDARD
TZOFFSETFROM:-0700
TZOFFSETTO:-0800
TZNAME:PST
DTSTART:20221106T090000
END:STANDARD
BEGIN:DAYLIGHT
TZOFFSETFROM:-0800
TZOFFSETTO:-0700
TZNAME:PDT
DTSTART:20230312T100000
END:DAYLIGHT
BEGIN:STANDARD
TZOFFSETFROM:-0700
TZOFFSETTO:-0800
TZNAME:PST
DTSTART:20231105T090000
END:STANDARD
BEGIN:DAYLIGHT
TZOFFSETFROM:-0800
TZOFFSETTO:-0700
TZNAME:PDT
DTSTART:20240310T100000
END:DAYLIGHT
BEGIN:STANDARD
TZOFFSETFROM:-0700
TZOFFSETTO:-0800
TZNAME:PST
DTSTART:20241103T090000
END:STANDARD
END:VTIMEZONE
BEGIN:VEVENT
DTSTART;TZID=America/Los_Angeles:20230215T120000
DTEND;TZID=America/Los_Angeles:20230215T130000
DTSTAMP:20260419T121944
CREATED:20230314T002657Z
LAST-MODIFIED:20230314T002657Z
UID:9-1676462400-1676466000@ioa.pre2.ss.ucla.edu
SUMMARY:Wednesday Talks: Migration and burial in Classical Athens
DESCRIPTION:ABSTRACT: Migrants are thought to have facilitated the exchange of goods and ideas around the Mediterranean throughout Greek history\, yet the lived experiences of these individuals\, families\, and communities remain relatively under-studied. The cultural identities of migrants are often fixed to their place of origin\, perceived by scholars as “others” in the new societies in which they lived. Archaeological approaches to the burials of migrants assume that this “otherness” will be reflected in material culture\, with imported grave goods and practices used as the basis for the identification of the grave of a migrant. This talk will challenge these assumptions through the analysis of the burial of a man from Chios in late 5th century BC Athens\, not only by comparing the burial practices of Chios and Athens to identify which practices were maintained\, abandoned\, or altered\, but also by contextualizing the burial through the deceased’s age\, gender\, status\, occupation\, and possible reasons for leaving home.BIO: Camille Reiko Acosta is a PhD candidate at the Cotsen Institute of Archaeology at UCLA. She received her BA from the University of Edinburgh and her MA from the University of Oxford. Her dissertation project focuses on the burial practices of migrants in Classical Athens\, and additionally\, she is a member of the British Museum’s Naukratis Project (Egypt) and UCLA’s Ancient Methone Archaeological Project (Greece)\, studying the Archaic and Classical Greek ceramic assemblages.
URL:https://ioa.pre2.ss.ucla.edu/event/wednesday-talks-migration-and-burial-in-classical-athens/
END:VEVENT
END:VCALENDAR