BEGIN:VCALENDAR
VERSION:2.0
PRODID:-//Cotsen Institute of Archaeology - ECPv6.15.17.1//NONSGML v1.0//EN
CALSCALE:GREGORIAN
METHOD:PUBLISH
X-ORIGINAL-URL:https://ioa.pre2.ss.ucla.edu
X-WR-CALDESC:Events for Cotsen Institute of Archaeology
REFRESH-INTERVAL;VALUE=DURATION:PT1H
X-Robots-Tag:noindex
X-PUBLISHED-TTL:PT1H
BEGIN:VTIMEZONE
TZID:America/Los_Angeles
BEGIN:DAYLIGHT
TZOFFSETFROM:-0800
TZOFFSETTO:-0700
TZNAME:PDT
DTSTART:20210314T100000
END:DAYLIGHT
BEGIN:STANDARD
TZOFFSETFROM:-0700
TZOFFSETTO:-0800
TZNAME:PST
DTSTART:20211107T090000
END:STANDARD
BEGIN:DAYLIGHT
TZOFFSETFROM:-0800
TZOFFSETTO:-0700
TZNAME:PDT
DTSTART:20220313T100000
END:DAYLIGHT
BEGIN:STANDARD
TZOFFSETFROM:-0700
TZOFFSETTO:-0800
TZNAME:PST
DTSTART:20221106T090000
END:STANDARD
BEGIN:DAYLIGHT
TZOFFSETFROM:-0800
TZOFFSETTO:-0700
TZNAME:PDT
DTSTART:20230312T100000
END:DAYLIGHT
BEGIN:STANDARD
TZOFFSETFROM:-0700
TZOFFSETTO:-0800
TZNAME:PST
DTSTART:20231105T090000
END:STANDARD
END:VTIMEZONE
BEGIN:VEVENT
DTSTART;TZID=America/Los_Angeles:20221109T120000
DTEND;TZID=America/Los_Angeles:20221109T130000
DTSTAMP:20260421T063056
CREATED:20230314T002708Z
LAST-MODIFIED:20230314T002708Z
UID:14-1667995200-1667998800@ioa.pre2.ss.ucla.edu
SUMMARY:Weds Talks: Tracking Neanderthals: Looking for evidence of the Middle Paleolithic inhabitants of the Central Balkans
DESCRIPTION:Abstract and Bio: Dr. Sarah A Lacy is a paleoanthropologist and associate professor at California State University Dominguez Hills. Her work on Neanderthals and early modern humans has explored differential oral and respiratory health to understand why we’re the only living taxonomic group of humans on the planet today. She is now working with a team in North Macedonia to excavate the site of Uzun Mera\, a newly discovered Middle Paleolithic stone tool manufacturing workshop\, as well as look for additional sites across the country. This project is also a field school\, so that archaeologists in training of all types can participate in a wide variety of excavation and survey methods in a country whose Paleolithic history has only recently begun to be explored.
URL:https://ioa.pre2.ss.ucla.edu/event/weds-talks-tracking-neanderthals-looking-for-evidence-of-the-middle-paleolithic-inhabitants-of-the-central-balkans/
END:VEVENT
END:VCALENDAR