BEGIN:VCALENDAR
VERSION:2.0
PRODID:-//Cotsen Institute of Archaeology - ECPv6.15.17.1//NONSGML v1.0//EN
CALSCALE:GREGORIAN
METHOD:PUBLISH
X-ORIGINAL-URL:https://ioa.pre2.ss.ucla.edu
X-WR-CALDESC:Events for Cotsen Institute of Archaeology
REFRESH-INTERVAL;VALUE=DURATION:PT1H
X-Robots-Tag:noindex
X-PUBLISHED-TTL:PT1H
BEGIN:VTIMEZONE
TZID:America/Los_Angeles
BEGIN:DAYLIGHT
TZOFFSETFROM:-0800
TZOFFSETTO:-0700
TZNAME:PDT
DTSTART:20210314T100000
END:DAYLIGHT
BEGIN:STANDARD
TZOFFSETFROM:-0700
TZOFFSETTO:-0800
TZNAME:PST
DTSTART:20211107T090000
END:STANDARD
BEGIN:DAYLIGHT
TZOFFSETFROM:-0800
TZOFFSETTO:-0700
TZNAME:PDT
DTSTART:20220313T100000
END:DAYLIGHT
BEGIN:STANDARD
TZOFFSETFROM:-0700
TZOFFSETTO:-0800
TZNAME:PST
DTSTART:20221106T090000
END:STANDARD
BEGIN:DAYLIGHT
TZOFFSETFROM:-0800
TZOFFSETTO:-0700
TZNAME:PDT
DTSTART:20230312T100000
END:DAYLIGHT
BEGIN:STANDARD
TZOFFSETFROM:-0700
TZOFFSETTO:-0800
TZNAME:PST
DTSTART:20231105T090000
END:STANDARD
END:VTIMEZONE
BEGIN:VEVENT
DTSTART;TZID=America/Los_Angeles:20220218T110000
DTEND;TZID=America/Los_Angeles:20220218T120000
DTSTAMP:20260421T203317
CREATED:20230314T002820Z
LAST-MODIFIED:20230314T002820Z
UID:42-1645182000-1645185600@ioa.pre2.ss.ucla.edu
SUMMARY:Preserving the Wreck of an Intact 17th-century warship – the Challenging and Rewarding Conservation Work at the Vasa Museum
DESCRIPTION:Malin SahlstedtConservator\, Vasa Museum\, Swedish National Maritime and Transport MuseumsRegister hereSince the raising of 17th-century warship Vasa in 1961 after333 years on the seabed of Stockholm harbour\, two generations of preservation staff have had the task to safeguard this mighty piece of maritime cultural heritage for the future\, a task perhaps as monumental as the ship itself. Contrary to what was thought when the Vasa Museum opened in 1990\, namely that the conservation project was finalised and there would be little further need for lab facilities and specialised staff\, the gradual development of acidic precipitates on the surface of the ship over the coming decade signalled on-going degradation processes\,which called for action and wide expertise. Through a number of interdisciplinary research projects\, new knowledge has been built and implemented in museum practice. I will present some of the experiences made and lessons learned over the years\, where the securing and maintaining of broad preservation competence have become increasingly important and likewise challening.Malin Sahlstedt studied Conservation of Cultural Property at Gothenburg University and has aMSc in Archaeological Science from Stockholm University (2000). After working in archaeological conservation with the focus on the treatment of waterlogged wood and a research projecton alum-treated archaeological wood at the Swedish National Heritage Board (2002-2009)\,she is currently conservator at the Vasa Museum in Stockholm\, Sweden (2009-present). Here\, in the continuous effort to improve the long-term preservation conditions for 17th-centurywarship Vasa and associated wooden artefacts\, her work is concentrated on testing methods and implementing research results in the museum context. She also worked as a conservator in the research project Saving Oseberg at the Cultural History Museum in Oslo\, Norway (2017-2018)\, investigating the preservation status of and re-treatment options for the alum-treated wooden objects of the Viking Ship Museum collection.
URL:https://ioa.pre2.ss.ucla.edu/event/preserving-the-wreck-of-an-intact-17th-century-warship-the-challenging-and-rewarding-conservation-work-at-the-vasa-museum/
END:VEVENT
END:VCALENDAR