BEGIN:VCALENDAR
VERSION:2.0
PRODID:-//Cotsen Institute of Archaeology - ECPv6.15.17.1//NONSGML v1.0//EN
CALSCALE:GREGORIAN
METHOD:PUBLISH
X-ORIGINAL-URL:https://ioa.pre2.ss.ucla.edu
X-WR-CALDESC:Events for Cotsen Institute of Archaeology
REFRESH-INTERVAL;VALUE=DURATION:PT1H
X-Robots-Tag:noindex
X-PUBLISHED-TTL:PT1H
BEGIN:VTIMEZONE
TZID:America/Los_Angeles
BEGIN:DAYLIGHT
TZOFFSETFROM:-0800
TZOFFSETTO:-0700
TZNAME:PDT
DTSTART:20210314T100000
END:DAYLIGHT
BEGIN:STANDARD
TZOFFSETFROM:-0700
TZOFFSETTO:-0800
TZNAME:PST
DTSTART:20211107T090000
END:STANDARD
BEGIN:DAYLIGHT
TZOFFSETFROM:-0800
TZOFFSETTO:-0700
TZNAME:PDT
DTSTART:20220313T100000
END:DAYLIGHT
BEGIN:STANDARD
TZOFFSETFROM:-0700
TZOFFSETTO:-0800
TZNAME:PST
DTSTART:20221106T090000
END:STANDARD
BEGIN:DAYLIGHT
TZOFFSETFROM:-0800
TZOFFSETTO:-0700
TZNAME:PDT
DTSTART:20230312T100000
END:DAYLIGHT
BEGIN:STANDARD
TZOFFSETFROM:-0700
TZOFFSETTO:-0800
TZNAME:PST
DTSTART:20231105T090000
END:STANDARD
END:VTIMEZONE
BEGIN:VEVENT
DTSTART;TZID=America/Los_Angeles:20220217T080000
DTEND;TZID=America/Los_Angeles:20220217T090000
DTSTAMP:20260421T203205
CREATED:20230314T002825Z
LAST-MODIFIED:20230314T002825Z
UID:45-1645084800-1645088400@ioa.pre2.ss.ucla.edu
SUMMARY:Mucho más que un puente terrestre
DESCRIPTION:A book release seminar sponsored by STRI\, Panama and the Panamanian ministry of culture.  This new book\, written in Spanish\, presents recent archaeological research in Panama.  The book is the first tome devoted to Panamanian archaeology published in Spanish in Panama.  
URL:https://ioa.pre2.ss.ucla.edu/event/mucho-mas-que-un-puente-terrestre/
END:VEVENT
BEGIN:VEVENT
DTSTART;TZID=America/Los_Angeles:20220217T120000
DTEND;TZID=America/Los_Angeles:20220217T140000
DTSTAMP:20260421T203205
CREATED:20230314T002823Z
LAST-MODIFIED:20230314T002823Z
UID:44-1645099200-1645106400@ioa.pre2.ss.ucla.edu
SUMMARY:How to Build a Career and Life in Archaeology: Tips from the Hired and Hirers for BIPOC Archaeologists
DESCRIPTION:Willeke Wendrich\, MODERATORDirector\, Cotsen Institute of Archaeology & Professor\, Department of Near Eastern Languages and Cultures\, University of California Los AngelesAngela McArdleSenior Historic Preservation Specialist\, Department of Veterans AffairsAlbert Gonzalez Associate Professor of Anthropology & Director of the C.E. Smith Museum of Anthropology\, California State University\, East BayKristina DouglassAssistant Professor of Anthropology\, Penn State UniversityStephen AcabadoAssociate Professor of Anthropology & Director\, UCLA Center for Southeast Asian StudiesSarah HerrPresident\, Desert Archaeology Inc. Julie SteinExecutive Director of the Burke Museum & Professor of Anthropology\, University of WashingtonRegister here
URL:https://ioa.pre2.ss.ucla.edu/event/how-to-build-a-career-and-life-in-archaeology-tips-from-the-hired-and-hirers-for-bipoc-archaeologists/
END:VEVENT
BEGIN:VEVENT
DTSTART;TZID=America/Los_Angeles:20220217T170000
DTEND;TZID=America/Los_Angeles:20220217T180000
DTSTAMP:20260421T203205
CREATED:20230314T002822Z
LAST-MODIFIED:20230314T002822Z
UID:43-1645117200-1645120800@ioa.pre2.ss.ucla.edu
SUMMARY:All about Field Schools
DESCRIPTION:Over ZoomGoogle slides linked 
URL:https://ioa.pre2.ss.ucla.edu/event/all-about-field-schools/
END:VEVENT
END:VCALENDAR