BEGIN:VCALENDAR
VERSION:2.0
PRODID:-//Cotsen Institute of Archaeology - ECPv6.15.17.1//NONSGML v1.0//EN
CALSCALE:GREGORIAN
METHOD:PUBLISH
X-ORIGINAL-URL:https://ioa.pre2.ss.ucla.edu
X-WR-CALDESC:Events for Cotsen Institute of Archaeology
REFRESH-INTERVAL;VALUE=DURATION:PT1H
X-Robots-Tag:noindex
X-PUBLISHED-TTL:PT1H
BEGIN:VTIMEZONE
TZID:America/Los_Angeles
BEGIN:DAYLIGHT
TZOFFSETFROM:-0800
TZOFFSETTO:-0700
TZNAME:PDT
DTSTART:20210314T100000
END:DAYLIGHT
BEGIN:STANDARD
TZOFFSETFROM:-0700
TZOFFSETTO:-0800
TZNAME:PST
DTSTART:20211107T090000
END:STANDARD
BEGIN:DAYLIGHT
TZOFFSETFROM:-0800
TZOFFSETTO:-0700
TZNAME:PDT
DTSTART:20220313T100000
END:DAYLIGHT
BEGIN:STANDARD
TZOFFSETFROM:-0700
TZOFFSETTO:-0800
TZNAME:PST
DTSTART:20221106T090000
END:STANDARD
BEGIN:DAYLIGHT
TZOFFSETFROM:-0800
TZOFFSETTO:-0700
TZNAME:PDT
DTSTART:20230312T100000
END:DAYLIGHT
BEGIN:STANDARD
TZOFFSETFROM:-0700
TZOFFSETTO:-0800
TZNAME:PST
DTSTART:20231105T090000
END:STANDARD
END:VTIMEZONE
BEGIN:VEVENT
DTSTART;TZID=America/Los_Angeles:20220124T130000
DTEND;TZID=America/Los_Angeles:20220124T130000
DTSTAMP:20260421T222008
CREATED:20230314T002841Z
LAST-MODIFIED:20230314T002841Z
UID:50-1643029200-1643029200@ioa.pre2.ss.ucla.edu
SUMMARY:Making and Selling Drinks and Other Ways to Study Marginalized Ethnic Groups in Sixteenth- and Seventeenth-Century Cuzco
DESCRIPTION:Leo GarofaloDepartment of History\, Connecticut CollegeA discussion of how to study the social history of ethnic groups viewed as marginal in the colonial Andean cities of the 16th and 17th centuries. Studies cases of: indigenous migrants to cities like Lima and Cuzco\, including those from Central America and Chile; African and African descendants\, including Afro-Iberians\, in both cities and present in rural areas production; and people arriving to Peru from in early trans-Pacific diaspora. These constitute three challenging cases for historical study\, requiring extra work to detect their traces in the archives and other period sources.Registration Link: https://tinyurl.com/AWGTalkSponsors: Cotsen Institute of Archaeology and UCLA Latin American Institute 
URL:https://ioa.pre2.ss.ucla.edu/event/making-and-selling-drinks-and-other-ways-to-study-marginalized-ethnic-groups-in-sixteenth-and-seventeenth-century-cuzco/
END:VEVENT
END:VCALENDAR