BEGIN:VCALENDAR
VERSION:2.0
PRODID:-//Cotsen Institute of Archaeology - ECPv6.15.17.1//NONSGML v1.0//EN
CALSCALE:GREGORIAN
METHOD:PUBLISH
X-ORIGINAL-URL:https://ioa.pre2.ss.ucla.edu
X-WR-CALDESC:Events for Cotsen Institute of Archaeology
REFRESH-INTERVAL;VALUE=DURATION:PT1H
X-Robots-Tag:noindex
X-PUBLISHED-TTL:PT1H
BEGIN:VTIMEZONE
TZID:America/Los_Angeles
BEGIN:DAYLIGHT
TZOFFSETFROM:-0800
TZOFFSETTO:-0700
TZNAME:PDT
DTSTART:20200308T100000
END:DAYLIGHT
BEGIN:STANDARD
TZOFFSETFROM:-0700
TZOFFSETTO:-0800
TZNAME:PST
DTSTART:20201101T090000
END:STANDARD
BEGIN:DAYLIGHT
TZOFFSETFROM:-0800
TZOFFSETTO:-0700
TZNAME:PDT
DTSTART:20210314T100000
END:DAYLIGHT
BEGIN:STANDARD
TZOFFSETFROM:-0700
TZOFFSETTO:-0800
TZNAME:PST
DTSTART:20211107T090000
END:STANDARD
BEGIN:DAYLIGHT
TZOFFSETFROM:-0800
TZOFFSETTO:-0700
TZNAME:PDT
DTSTART:20220313T100000
END:DAYLIGHT
BEGIN:STANDARD
TZOFFSETFROM:-0700
TZOFFSETTO:-0800
TZNAME:PST
DTSTART:20221106T090000
END:STANDARD
END:VTIMEZONE
BEGIN:VEVENT
DTSTART;TZID=America/Los_Angeles:20211112T110000
DTEND;TZID=America/Los_Angeles:20211112T110000
DTSTAMP:20260422T045446
CREATED:20211113T012857Z
LAST-MODIFIED:20230314T045237Z
UID:55-1636714800-1636714800@ioa.pre2.ss.ucla.edu
SUMMARY:Benin Royal Art and Questions of Restitution
DESCRIPTION:Dr. Glenn WhartonChair\, UCLA/Getty Program in the Conservation of Cultural Heritageinvites you to attendUCLA/Getty Program’s Distinguished Speaker SeriesfeaturingDr. Ndubuisi EzeluombaFrançoise Billion Richardson Curator of African ArtNew Orleans Museum of ArtFriday\, November 12\, 2021 at 11:00am PDTLive streaming via ZoomRegister hereInstructions to join the webinar will be provided once your registrationhas been confirmed.Please submit your questions in advance of the webinar via email to:hnadworny@support.ucla.edu by Wednesday\, November 10 at 12:00 p.m.About the program: Dr. Ezeluoma will discuss the restitution of Benin cultural patrimony. In 1897\, the British government acted on a request from the Royal Niger Company to remove the Benin Oba (king)\, who was seen as an obstacle to trade. A British force of about twelve hundred men supported by several hundred African auxiliaries besieged Benin City. The raid (British Punitive Expedition)\, as the colonial force was called\, bombarded the city and looted five hundred years’ worth of bronze\, brass and ivory sculptures. This was a national treasure that constituted the royal archive of Benin’s history. Oba Ovonramwen (ruled 1888-1914) was deposed and sent to die in exile and the Benin kingdom was incorporated into the colonial nation of Nigeria. Conversation on the repatriation of this cultural patrimony rages on today. Dr. Ezeluona will point to current progress and speak to the important role American cultural institutions are playing in the process.
URL:https://ioa.pre2.ss.ucla.edu/event/benin-royal-art-and-questions-of-restitution/
END:VEVENT
END:VCALENDAR