BEGIN:VCALENDAR
VERSION:2.0
PRODID:-//Cotsen Institute of Archaeology - ECPv6.15.17.1//NONSGML v1.0//EN
CALSCALE:GREGORIAN
METHOD:PUBLISH
X-WR-CALNAME:Cotsen Institute of Archaeology
X-ORIGINAL-URL:https://ioa.pre2.ss.ucla.edu
X-WR-CALDESC:Events for Cotsen Institute of Archaeology
REFRESH-INTERVAL;VALUE=DURATION:PT1H
X-Robots-Tag:noindex
X-PUBLISHED-TTL:PT1H
BEGIN:VTIMEZONE
TZID:America/Los_Angeles
BEGIN:DAYLIGHT
TZOFFSETFROM:-0800
TZOFFSETTO:-0700
TZNAME:PDT
DTSTART:20200308T100000
END:DAYLIGHT
BEGIN:STANDARD
TZOFFSETFROM:-0700
TZOFFSETTO:-0800
TZNAME:PST
DTSTART:20201101T090000
END:STANDARD
BEGIN:DAYLIGHT
TZOFFSETFROM:-0800
TZOFFSETTO:-0700
TZNAME:PDT
DTSTART:20210314T100000
END:DAYLIGHT
BEGIN:STANDARD
TZOFFSETFROM:-0700
TZOFFSETTO:-0800
TZNAME:PST
DTSTART:20211107T090000
END:STANDARD
BEGIN:DAYLIGHT
TZOFFSETFROM:-0800
TZOFFSETTO:-0700
TZNAME:PDT
DTSTART:20220313T100000
END:DAYLIGHT
BEGIN:STANDARD
TZOFFSETFROM:-0700
TZOFFSETTO:-0800
TZNAME:PST
DTSTART:20221106T090000
END:STANDARD
END:VTIMEZONE
BEGIN:VEVENT
DTSTART;TZID=America/Los_Angeles:20211106T110000
DTEND;TZID=America/Los_Angeles:20211106T120000
DTSTAMP:20260422T045232
CREATED:20230314T002904Z
LAST-MODIFIED:20230314T002904Z
UID:56-1636196400-1636200000@ioa.pre2.ss.ucla.edu
SUMMARY:The Joys and Blunders of 25 Years of Work at the 9000 Year-old Town of Çatalhöyük
DESCRIPTION:The Teen Friends of Archaeology is excited to invite you to a lecture on the extensive site of Çatalhöyük by Dr. Ian Hodder:The joys and blunders of 25 years of work at the 9000 year-old town of ÇatalhöyükRegister at https://bit.ly/3BBWF0NIan Hodder is the Dunlevie Family Professor in the Department of Anthropology at Stanford\, and Director of the Stanford Archaeology Center. He previously taught in the Cambridge Archaeology department. Professor Hodder has also been conducting the excavation of the 9\,000 year-old Neolithic site of Çatalhöyük in central Turkey since 1993. He is a well-published author who is known for his numerous books and papers on a wide variety of archaeological subjects. Photos by Jason Quinlan\, courtesy of the Çatalhöyük Research Project.
URL:https://ioa.pre2.ss.ucla.edu/event/the-joys-and-blunders-of-25-years-of-work-at-the-9000-year-old-town-of-catalhoyuk/
END:VEVENT
END:VCALENDAR