BEGIN:VCALENDAR
VERSION:2.0
PRODID:-//Cotsen Institute of Archaeology - ECPv6.15.17.1//NONSGML v1.0//EN
CALSCALE:GREGORIAN
METHOD:PUBLISH
X-ORIGINAL-URL:https://ioa.pre2.ss.ucla.edu
X-WR-CALDESC:Events for Cotsen Institute of Archaeology
REFRESH-INTERVAL;VALUE=DURATION:PT1H
X-Robots-Tag:noindex
X-PUBLISHED-TTL:PT1H
BEGIN:VTIMEZONE
TZID:America/Los_Angeles
BEGIN:DAYLIGHT
TZOFFSETFROM:-0800
TZOFFSETTO:-0700
TZNAME:PDT
DTSTART:20200308T100000
END:DAYLIGHT
BEGIN:STANDARD
TZOFFSETFROM:-0700
TZOFFSETTO:-0800
TZNAME:PST
DTSTART:20201101T090000
END:STANDARD
BEGIN:DAYLIGHT
TZOFFSETFROM:-0800
TZOFFSETTO:-0700
TZNAME:PDT
DTSTART:20210314T100000
END:DAYLIGHT
BEGIN:STANDARD
TZOFFSETFROM:-0700
TZOFFSETTO:-0800
TZNAME:PST
DTSTART:20211107T090000
END:STANDARD
BEGIN:DAYLIGHT
TZOFFSETFROM:-0800
TZOFFSETTO:-0700
TZNAME:PDT
DTSTART:20220313T100000
END:DAYLIGHT
BEGIN:STANDARD
TZOFFSETFROM:-0700
TZOFFSETTO:-0800
TZNAME:PST
DTSTART:20221106T090000
END:STANDARD
END:VTIMEZONE
BEGIN:VEVENT
DTSTART;TZID=America/Los_Angeles:20210526T120000
DTEND;TZID=America/Los_Angeles:20210526T130000
DTSTAMP:20260423T011408
CREATED:20210527T002926Z
LAST-MODIFIED:20230314T045105Z
UID:65-1622030400-1622034000@ioa.pre2.ss.ucla.edu
SUMMARY:Virtual Pizza Talk: Ancient Andean Houses: Making\, Inhabiting and Studying
DESCRIPTION:Jerry MooreDepartment of AnthropologyCalifornia State University Dominguez HillsRegister hereMoore’s principal expertise is on the prehistoric architecture and cultural landscapes in the Andes. Archaeologists typically view architectural features of dwellings and other domestic architecture as built projects in which materials are modified according to a preconceived design in the builders’ minds. Although archaeologists usually acknowledge the different processes that transform buildings into archaeological features and sites\, they tend not to understand how different buildings and construction methods inherently shape the archaeological record.  This has direct implications for archaeological inferences about ancient households. Dr. Moore will discuss these issues referencing select case studies from Mesoamerica and the Andes.
URL:https://ioa.pre2.ss.ucla.edu/event/virtual-pizza-talk-ancient-andean-houses-making-inhabiting-and-studying/
END:VEVENT
END:VCALENDAR