BEGIN:VCALENDAR
VERSION:2.0
PRODID:-//Cotsen Institute of Archaeology - ECPv6.15.17.1//NONSGML v1.0//EN
CALSCALE:GREGORIAN
METHOD:PUBLISH
X-ORIGINAL-URL:https://ioa.pre2.ss.ucla.edu
X-WR-CALDESC:Events for Cotsen Institute of Archaeology
REFRESH-INTERVAL;VALUE=DURATION:PT1H
X-Robots-Tag:noindex
X-PUBLISHED-TTL:PT1H
BEGIN:VTIMEZONE
TZID:America/Los_Angeles
BEGIN:DAYLIGHT
TZOFFSETFROM:-0800
TZOFFSETTO:-0700
TZNAME:PDT
DTSTART:20200308T100000
END:DAYLIGHT
BEGIN:STANDARD
TZOFFSETFROM:-0700
TZOFFSETTO:-0800
TZNAME:PST
DTSTART:20201101T090000
END:STANDARD
BEGIN:DAYLIGHT
TZOFFSETFROM:-0800
TZOFFSETTO:-0700
TZNAME:PDT
DTSTART:20210314T100000
END:DAYLIGHT
BEGIN:STANDARD
TZOFFSETFROM:-0700
TZOFFSETTO:-0800
TZNAME:PST
DTSTART:20211107T090000
END:STANDARD
BEGIN:DAYLIGHT
TZOFFSETFROM:-0800
TZOFFSETTO:-0700
TZNAME:PDT
DTSTART:20220313T100000
END:DAYLIGHT
BEGIN:STANDARD
TZOFFSETFROM:-0700
TZOFFSETTO:-0800
TZNAME:PST
DTSTART:20221106T090000
END:STANDARD
END:VTIMEZONE
BEGIN:VEVENT
DTSTART;TZID=America/Los_Angeles:20210415T170000
DTEND;TZID=America/Los_Angeles:20210415T180000
DTSTAMP:20260423T011445
CREATED:20230314T002954Z
LAST-MODIFIED:20230314T002954Z
UID:74-1618506000-1618509600@ioa.pre2.ss.ucla.edu
SUMMARY:So\, You’re Thinking About Grad School
DESCRIPTION:Over ZoomOverview of the graduate school application process including things to consider before applying\, M.A. versus Ph.D. programs\, application components\, and things you can do during undergrad to prepare; followed by Q&A.
URL:https://ioa.pre2.ss.ucla.edu/event/so-youre-thinking-about-grad-school/
END:VEVENT
END:VCALENDAR