BEGIN:VCALENDAR
VERSION:2.0
PRODID:-//Cotsen Institute of Archaeology - ECPv6.15.17.1//NONSGML v1.0//EN
CALSCALE:GREGORIAN
METHOD:PUBLISH
X-WR-CALNAME:Cotsen Institute of Archaeology
X-ORIGINAL-URL:https://ioa.pre2.ss.ucla.edu
X-WR-CALDESC:Events for Cotsen Institute of Archaeology
REFRESH-INTERVAL;VALUE=DURATION:PT1H
X-Robots-Tag:noindex
X-PUBLISHED-TTL:PT1H
BEGIN:VTIMEZONE
TZID:America/Los_Angeles
BEGIN:DAYLIGHT
TZOFFSETFROM:-0800
TZOFFSETTO:-0700
TZNAME:PDT
DTSTART:20200308T100000
END:DAYLIGHT
BEGIN:STANDARD
TZOFFSETFROM:-0700
TZOFFSETTO:-0800
TZNAME:PST
DTSTART:20201101T090000
END:STANDARD
BEGIN:DAYLIGHT
TZOFFSETFROM:-0800
TZOFFSETTO:-0700
TZNAME:PDT
DTSTART:20210314T100000
END:DAYLIGHT
BEGIN:STANDARD
TZOFFSETFROM:-0700
TZOFFSETTO:-0800
TZNAME:PST
DTSTART:20211107T090000
END:STANDARD
BEGIN:DAYLIGHT
TZOFFSETFROM:-0800
TZOFFSETTO:-0700
TZNAME:PDT
DTSTART:20220313T100000
END:DAYLIGHT
BEGIN:STANDARD
TZOFFSETFROM:-0700
TZOFFSETTO:-0800
TZNAME:PST
DTSTART:20221106T090000
END:STANDARD
END:VTIMEZONE
BEGIN:VEVENT
DTSTART;TZID=America/Los_Angeles:20210409T110000
DTEND;TZID=America/Los_Angeles:20210409T120000
DTSTAMP:20260423T011700
CREATED:20230314T002956Z
LAST-MODIFIED:20230314T002956Z
UID:75-1617966000-1617969600@ioa.pre2.ss.ucla.edu
SUMMARY:Ritualized Stone and Public Art on Easter Island Highlights and Insights of Recent Excavations in Statue Quarry
DESCRIPTION:Jo Anne Van TilburgDirector\, Easter Island Statue ProjectRock Art Archive\, UCLA Cotsen InstituteRegister hereAn international\, multidisciplinary team directed by Jo Anne Van Tilburg conducted a major archeological survey of monolithic sculpture on Rapa Nui (Easter Island). Beginning in 2002\, the team mapped the inner basin of Rano Raraku\, the island’s famed statue quarry. This was followed in 2010 by excavations of four statues in the inner basin. This presentation summarizes highlights of the excavations and their resulting insights into the past. It examines the role of sanctity as expressed in ritualized stone and describes the interactive forces key to the actualization of community expressed as megalithic public art.Dr. Jo Anne Van Tilburg is an archaeologist and the Director of the Easter Island Statue Project\, an archaeological inventory and database project that has produced a stylistic analysis of nearly 900 monolithic statues (moai).  Her research interest addresses the integration of symbolism and structure and the complex ways in which humans employ cultural resources\, social practices\, and ancient aesthetics to relate to and alter\, shape\, and impact the natural landscape. Social processes and the interactive roles of art\, history\, and ecology are explored in on-going field and museum studies.  Her most recent field project is the digital mapping of the interior of Rano Raraku Statue Quarry\, Easter Island. Van Tilburg is an appointed member of the National Landmarks Committee\, US National Park Service Advisory Board; a Research Associate of the Cotsen Institute of Archaeology at UCLA\, where she directs the UCLA Rock Art Archive; recipient of the 2001 California Governor’s Award for Historic Preservation\, and a Fellow of the Royal Geographical Society.  
URL:https://ioa.pre2.ss.ucla.edu/event/ritualized-stone-and-public-art-on-easter-island-highlights-and-insights-of-recent-excavations-in-statue-quarry/
END:VEVENT
END:VCALENDAR